BEGIN:VCALENDAR
VERSION:2.0
PRODID:SchoolNow
CALSCALE:GREGORIAN
BEGIN:VEVENT
UID:f03cb9d8-6126-11ee-b8c1-0a58a9feac02
DTSTAMP:20240816T185351Z
SUMMARY:CDD Meeting - Aug. 2024
LOCATION:Hawks Point Clubhouse\, 1223 Oak Pond Street\, Ruskin\, Florida.
URL;VALUE=URI:https://www.hawkspointcdd.org/calendar/4821095/cdd-meeting-au
 g-2024
DTSTART:20240820T213000Z
DTEND:20240820T223000Z
ATTACH;FILENAME=Hawks Point 08-20-2024 Agenda Package (Revised 08-16).pdf;F
 MTTYPE=application/pdf:https://campussuite-storage.s3.amazonaws.com/prod/1
 558789/06bec03c-a7dd-11e9-ab3a-127b6eacda64/2830929/d927e436-5c00-11ef-bb3
 2-0a58a9feac02/file/Hawks Point 08-20-2024 Agenda Package (Revised 08-16).
 pdf
END:VEVENT
END:VCALENDAR
